BEGIN:VCALENDAR
VERSION:2.0
BEGIN:VEVENT
DTSTART:20260122T173000Z
DTEND:20260122T193000Z
SUMMARY:Kommandantenwahl
END:VEVENT
BEGIN:VEVENT
DTSTART:20260126T180000Z
DTEND:20260126T200000Z
SUMMARY:Arbeitsdienst – Gruppe 2
END:VEVENT
BEGIN:VEVENT
DTSTART:20260129T183000Z
DTEND:20260129T203000Z
SUMMARY:Unterricht
END:VEVENT
BEGIN:VEVENT
DTSTART:20260208T080000Z
DTEND:20260208T100000Z
SUMMARY:Übung Gruppe 1+2
END:VEVENT
BEGIN:VEVENT
DTSTART:20260226T183000Z
DTEND:20260226T203000Z
SUMMARY:Unterricht
END:VEVENT
BEGIN:VEVENT
DTSTART:20260228T140000Z
DTEND:20260228T160000Z
SUMMARY:Übung Gruppe 3+JF
END:VEVENT
BEGIN:VEVENT
DTSTART:20260307T183000Z
DTEND:20260307T203000Z
SUMMARY:Jahreshauptversammlung
END:VEVENT
BEGIN:VEVENT
DTSTART:20260309T180000Z
DTEND:20260309T200000Z
SUMMARY:Arbeitsdienst – Gruppe 3
END:VEVENT
BEGIN:VEVENT
DTSTART:20260321T140000Z
DTEND:20260321T160000Z
SUMMARY:Übung Gruppe 1+JF
END:VEVENT
BEGIN:VEVENT
DTSTART:20260326T183000Z
DTEND:20260326T203000Z
SUMMARY:Unterricht
END:VEVENT
BEGIN:VEVENT
DTSTART:20260418T070000Z
DTEND:20260418T090000Z
SUMMARY:Gemeinschaftsübung KKK
END:VEVENT
BEGIN:VEVENT
DTSTART;VALUE=DATE:20260425
SUMMARY:Katastrophenschutzübung
END:VEVENT
BEGIN:VEVENT
DTSTART:20260427T170000Z
DTEND:20260427T190000Z
SUMMARY:Arbeitsdienst – Gruppe 1
END:VEVENT
BEGIN:VEVENT
DTSTART:20260430T173000Z
DTEND:20260430T193000Z
SUMMARY:Unterricht
END:VEVENT
BEGIN:VEVENT
DTSTART:20260503T070000Z
DTEND:20260503T090000Z
SUMMARY:Übung Gruppe 2+3
END:VEVENT
BEGIN:VEVENT
DTSTART;VALUE=DATE:20260509
SUMMARY:Festumzug 150 Jahre FF Barthelmessaurach
END:VEVENT
BEGIN:VEVENT
DTSTART:20260514T074500Z
DTEND:20260514T100000Z
SUMMARY:Fahrradtour
END:VEVENT
BEGIN:VEVENT
DTSTART:20260521T173000Z
DTEND:20260521T193000Z
SUMMARY:Unterricht
END:VEVENT
BEGIN:VEVENT
DTSTART;VALUE=DATE:20260613
SUMMARY:Holzhobelhof Sommerfest
END:VEVENT
BEGIN:VEVENT
DTSTART:20260615T170000Z
DTEND:20260615T190000Z
SUMMARY:Arbeitsdienst – Gruppe 2
END:VEVENT
BEGIN:VEVENT
DTSTART:20260620T130000Z
DTEND:20260620T150000Z
SUMMARY:Übung Gruppe 2+JF
END:VEVENT
BEGIN:VEVENT
DTSTART:20260625T173000Z
DTEND:20260625T193000Z
SUMMARY:Unterricht
END:VEVENT
BEGIN:VEVENT
DTSTART:20260626T160000Z
DTEND:20260626T200000Z
SUMMARY:SiWa Sommerfest TSV
END:VEVENT
BEGIN:VEVENT
DTSTART;VALUE=DATE:20260627
SUMMARY:Übung AV-SÜD
END:VEVENT
BEGIN:VEVENT
DTSTART;VALUE=DATE:20260628
SUMMARY:Festumzug 150 Jahre FF Nürnberg-Fischbach
END:VEVENT
BEGIN:VEVENT
DTSTART:20260712T070000Z
DTEND:20260712T090000Z
SUMMARY:Übung Gruppe 1+3
END:VEVENT
BEGIN:VEVENT
DTSTART:20260724T160000Z
DTEND:20260724T190000Z
SUMMARY:Unterricht + Jugend (Grillen)
END:VEVENT
BEGIN:VEVENT
DTSTART:20260727T170000Z
DTEND:20260727T190000Z
SUMMARY:Arbeitsdienst – Gruppe 3
END:VEVENT
BEGIN:VEVENT
DTSTART;VALUE=DATE:20260808
SUMMARY:SiWa Kirchweihzug
END:VEVENT
BEGIN:VEVENT
DTSTART:20260918T170000Z
DTEND:20260918T190000Z
SUMMARY:Übung Gruppe 2+3
END:VEVENT
BEGIN:VEVENT
DTSTART:20260921T170000Z
DTEND:20260921T190000Z
SUMMARY:Arbeitsdienst – Gruppe 1
END:VEVENT
BEGIN:VEVENT
DTSTART:20260924T173000Z
DTEND:20260924T193000Z
SUMMARY:Unterricht
END:VEVENT
BEGIN:VEVENT
DTSTART;VALUE=DATE:20260926
SUMMARY:AV-SÜD Schauübung
END:VEVENT
BEGIN:VEVENT
DTSTART:20261011T070000Z
DTEND:20261011T090000Z
SUMMARY:Übung Gruppe 1+2
END:VEVENT
BEGIN:VEVENT
DTSTART;VALUE=DATE:20261017
SUMMARY:Festkommers 150 Jahre FF Katzwang
END:VEVENT
BEGIN:VEVENT
DTSTART:20261029T183000Z
DTEND:20261029T203000Z
SUMMARY:Unterricht
END:VEVENT
BEGIN:VEVENT
DTSTART:20261109T180000Z
DTEND:20261109T200000Z
SUMMARY:Arbeitsdienst – Gruppe 2
END:VEVENT
BEGIN:VEVENT
DTSTART:20261114T140000Z
DTEND:20261114T160000Z
SUMMARY:Übung Gruppe 3+JF
END:VEVENT
BEGIN:VEVENT
DTSTART:20261126T183000Z
DTEND:20261126T203000Z
SUMMARY:Unterricht
END:VEVENT
BEGIN:VEVENT
DTSTART:20261205T080000Z
DTEND:20261205T110000Z
SUMMARY:Aufbau Weihnachtsfeier
END:VEVENT
BEGIN:VEVENT
DTSTART:20261205T150000Z
DTEND:20261205T210000Z
SUMMARY:Weihnachtsfeier
END:VEVENT
BEGIN:VEVENT
DTSTART:20261206T080000Z
DTEND:20261206T110000Z
SUMMARY:Abbau Weihnachtsfeier
END:VEVENT
BEGIN:VEVENT
DTSTART:20261214T180000Z
DTEND:20261214T200000Z
SUMMARY:Arbeitsdienst – Gruppe 1
END:VEVENT
BEGIN:VEVENT
DTSTART:20261217T183000Z
DTEND:20261217T203000Z
SUMMARY:Unterricht / Jahresabschluss
END:VEVENT
END:VCALENDAR
